Index of /checkResults/devel/bioc-LATEST/pvca/raw-results/nebbiolo2

[ICO]NameLast modifiedSizeDescription

[DIR]Parent Directory  -  
[   ]install-summary.dcf20-Aug-2022 01:11 253  
[   ]buildsrc-summary.dcf20-Aug-2022 01:11 408  
[   ]checksrc-summary.dcf20-Aug-2022 01:11 411  
[TXT]buildsrc-out.txt20-Aug-2022 01:11 794  
[TXT]install-out.txt20-Aug-2022 01:11 930  
[TXT]checksrc-out.txt20-Aug-2022 01:11 3.2K