Index of /checkResults/devel/bioc-LATEST/pvca/raw-results/nebbiolo2

[ICO]NameLast modifiedSizeDescription

[DIR]Parent Directory  -  
[TXT]buildsrc-out.txt07-Jul-2022 00:06 794  
[   ]buildsrc-summary.dcf07-Jul-2022 00:06 406  
[TXT]checksrc-out.txt07-Jul-2022 00:06 3.3K 
[   ]checksrc-summary.dcf07-Jul-2022 00:06 411  
[TXT]install-out.txt07-Jul-2022 00:06 930  
[   ]install-summary.dcf07-Jul-2022 00:06 253