![]() | Name | Last modified | Size | Description |
---|---|---|---|---|
![]() | Parent Directory | - | ||
![]() | buildsrc-out.txt | 29-Nov-2023 01:39 | 803 | |
![]() | buildsrc-summary.dcf | 29-Nov-2023 01:39 | 417 | |
![]() | checksrc-out.txt | 29-Nov-2023 01:39 | 3.5K | |
![]() | checksrc-summary.dcf | 29-Nov-2023 01:39 | 434 | |
![]() | install-out.txt | 29-Nov-2023 01:39 | 953 | |
![]() | install-summary.dcf | 29-Nov-2023 01:39 | 262 | |