Index of /checkResults/devel/bioc-LATEST/pvca/raw-results
Name
Last modified
Size
Description
Parent Directory
-
kunpeng2/
04-Oct-2023 00:41
-
info.dcf
04-Oct-2023 00:41
255
lconway/
04-Oct-2023 00:39
-
palomino4/
04-Oct-2023 00:38
-
nebbiolo2/
04-Oct-2023 00:37
-