Index of /checkResults/devel/bioc-LATEST/pvac/raw-results

[ICO]NameLast modifiedSizeDescription

[DIR]Parent Directory  -  
[   ]info.dcf21-Jan-2022 01:11 290  
[DIR]merida1/21-Jan-2022 01:11 -  
[DIR]nebbiolo1/21-Jan-2022 01:06 -  
[DIR]palomino3/21-Jan-2022 01:09 -  
[DIR]riesling1/21-Jan-2022 01:08 -