Name | Last modified | Size | Description | |
---|---|---|---|---|
Parent Directory | - | |||
buildbin-out.txt | 17-Jul-2024 00:41 | 218K | ||
buildbin-summary.dcf | 17-Jul-2024 00:41 | 501 | ||
buildsrc-out.txt | 17-Jul-2024 00:41 | 1.1K | ||
buildsrc-summary.dcf | 17-Jul-2024 00:41 | 447 | ||
checksrc-out.txt | 17-Jul-2024 00:41 | 14K | ||
checksrc-summary.dcf | 17-Jul-2024 00:41 | 447 | ||
install-out.txt | 17-Jul-2024 00:41 | 218K | ||
install-summary.dcf | 17-Jul-2024 00:41 | 268 | ||