Name | Last modified | Size | Description | |
---|---|---|---|---|
Parent Directory | - | |||
buildsrc-out.txt | 17-Jul-2024 00:39 | 1.1K | ||
buildsrc-summary.dcf | 17-Jul-2024 00:39 | 414 | ||
checksrc-out.txt | 17-Jul-2024 00:39 | 13K | ||
checksrc-summary.dcf | 17-Jul-2024 00:39 | 402 | ||
install-out.txt | 17-Jul-2024 00:39 | 804K | ||
install-summary.dcf | 17-Jul-2024 00:39 | 253 | ||