Back to Build/check report for BioC 3.18:   simplified   long
ABCDEFGHIJKLMNO[P]QRSTUVWXYZ

This page was generated on 2023-04-20 12:50:23 -0400 (Thu, 20 Apr 2023).

HostnameOSArch (*)R versionInstalled pkgs
nebbiolo2Linux (Ubuntu 20.04.5 LTS)x86_64R Under development (unstable) (2023-04-19 r84288) -- "Unsuffered Consequences" 3941
Click on any hostname to see more info about the system (e.g. compilers)      (*) as reported by 'uname -p', except on Windows and Mac OS X

All results for package pulsedSilac


To the developers/maintainers of the pulsedSilac package:
- Allow up to 24 hours (and sometimes 48 hours) for your latest push to git@git.bioconductor.org:packages/pulsedSilac.git to reflect on this report. See Troubleshooting Build Report for more information.

- Use the following Renviron settings to reproduce errors and warnings.

Note: If "R CMD check" recently failed on the Linux builder over a missing dependency, add the missing dependency to "Suggests" in your DESCRIPTION file. See the Renviron.bioc for details.

raw results

Package 1580/2223HostnameOS / ArchINSTALLBUILDCHECKBUILD BIN
pulsedSilac 1.13.1  (landing page)
Marc Pag├Ęs-Gallego
Snapshot Date: 2023-04-19 23:55:56 -0400 (Wed, 19 Apr 2023)
git_url: https://git.bioconductor.org/packages/pulsedSilac
git_branch: devel
git_last_commit: c9973ac
git_last_commit_date: 2023-01-25 10:44:07 -0400 (Wed, 25 Jan 2023)
nebbiolo2Linux (Ubuntu 20.04.5 LTS) / x86_64  ERROR    ERROR  skipped