Back to Multiple platform build/check report for BioC 3.15
ABCDEFGHIJKLMNO[P]QRSTUVWXYZ

This page was generated on 2022-01-15 11:08:21 -0500 (Sat, 15 Jan 2022).

HostnameOSArch (*)R versionInstalled pkgs
nebbiolo1Linux (Ubuntu 20.04.4 LTS)x86_64R Under development (unstable) (2022-01-05 r81451) -- "Unsuffered Consequences" 4160
riesling1Windows Server 2019 Standardx64R Under development (unstable) (2021-11-21 r81221) -- "Unsuffered Consequences" 4055
palomino3Windows Server 2022 Datacenterx64R Under development (unstable) (2021-12-21 r81400 ucrt) -- "Unsuffered Consequences" 3997
merida1macOS 10.14.6 Mojavex86_64R Under development (unstable) (2022-01-05 r81451) -- "Unsuffered Consequences" 4114
Click on any hostname to see more info about the system (e.g. compilers)      (*) as reported by 'uname -p', except on Windows and Mac OS X

INSTALL results for psygenet2r on riesling1


To the developers/maintainers of the psygenet2r package:
- Please allow up to 24 hours (and sometimes 48 hours) for your latest push to git@git.bioconductor.org:packages/psygenet2r.git to
reflect on this report. See How and When does the builder pull? When will my changes propagate? here for more information.
- Make sure to use the following settings in order to reproduce any error or warning you see on this page.

raw results

Package 1476/2074HostnameOS / ArchINSTALLBUILDCHECKBUILD BIN
psygenet2r 1.27.0  (landing page)
Alba Gutierrez-Sacristan
Snapshot Date: 2022-01-14 13:55:18 -0500 (Fri, 14 Jan 2022)
git_url: https://git.bioconductor.org/packages/psygenet2r
git_branch: master
git_last_commit: 93ef2da
git_last_commit_date: 2021-10-26 12:26:07 -0500 (Tue, 26 Oct 2021)
nebbiolo1Linux (Ubuntu 20.04.4 LTS) / x86_64  OK    OK    OK  UNNEEDED, same version is already published
riesling1Windows Server 2019 Standard / x64  OK    OK    OK    OK  
palomino3Windows Server 2022 Datacenter / x64  OK    OK    OK    OK  NO, package depends on 'biomaRt' which is not available
merida1macOS 10.14.6 Mojave / x86_64  OK    OK    OK    OK  UNNEEDED, same version is already published

Summary

Package: psygenet2r
Version: 1.27.0
Command: D:\biocbuild\bbs-3.15-bioc\R\bin\R.exe CMD INSTALL psygenet2r
StartedAt: 2022-01-14 16:02:58 -0500 (Fri, 14 Jan 2022)
EndedAt: 2022-01-14 16:04:09 -0500 (Fri, 14 Jan 2022)
EllapsedTime: 70.4 seconds
RetCode: 0
Status:   OK  

Command output

##############################################################################
##############################################################################
###
### Running command:
###
###   D:\biocbuild\bbs-3.15-bioc\R\bin\R.exe CMD INSTALL psygenet2r
###
##############################################################################
##############################################################################


* installing to library 'D:/biocbuild/bbs-3.15-bioc/R/library'
* installing *source* package 'psygenet2r' ...
** using staged installation
** R
** data
*** moving datasets to lazyload DB
** inst
** byte-compile and prepare package for lazy loading
** help
*** installing help indices
  converting help for package 'psygenet2r'
    finding HTML links ... done
    DataGeNET.Psy-class                     html  
    JaccardIndexPsy-class                   html  
    enrichedPD-methods                      html  
    extract                                 html  
    extractSentences                        html  
    geneAttrPlot-methods                    html  
    getUMLs-methods                         html  
    jaccardEstimation-methods               html  
    ndisease                                html  
    ngene                                   html  
    pantherGraphic-methods                  html  
    plot-DataGeNET.Psy-ANY-method           html  
    plot-JaccardIndexPsy-ANY-method         html  
    psygenet2r                              html  
    psygenetDisease-methods                 html  
    psygenetDiseaseSentences                html  
    psygenetGene-methods                    html  
    psygenetGeneSentences                   html  
    qr                                      html  
    topAnatEnrichment-methods               html  
    universe                                html  
** building package indices
** installing vignettes
** testing if installed package can be loaded from temporary location
** testing if installed package can be loaded from final location
** testing if installed package keeps a record of temporary installation path
* DONE (psygenet2r)
Making 'packages.html' ...Warning in packageDescription(i, lib.loc = lib, fields = "Title", encoding = "UTF-8") :
  DESCRIPTION file of package 'supraHex' is missing or broken
Warning in packageDescription(i, lib.loc = lib, fields = "Title", encoding = "UTF-8") :
  DESCRIPTION file of package 'tricycle' is missing or broken
 done