Index of /checkResults/devel/bioc-LATEST/psygenet2r/raw-results/palomino3

[ICO]NameLast modifiedSizeDescription

[DIR]Parent Directory  -  
[TXT]buildbin-out.txt23-Feb-2024 02:48 1.1K 
[   ]buildbin-summary.dcf23-Feb-2024 02:48 533  
[TXT]buildsrc-out.txt23-Feb-2024 02:48 854  
[   ]buildsrc-summary.dcf23-Feb-2024 02:48 465  
[TXT]checksrc-out.txt23-Feb-2024 02:48 8.1K 
[   ]checksrc-summary.dcf23-Feb-2024 02:48 459  
[TXT]install-out.txt23-Feb-2024 02:48 1.0K 
[   ]install-summary.dcf23-Feb-2024 02:48 274