Index of /checkResults/devel/bioc-LATEST/psygenet2r/raw-results/nebbiolo1

[ICO]NameLast modifiedSizeDescription

[DIR]Parent Directory  -  
[TXT]buildsrc-out.txt02-Mar-2024 01:36 1.3K 
[   ]buildsrc-summary.dcf02-Mar-2024 01:36 340  
[TXT]checksrc-out.txt29-Feb-2024 01:36 8.9K 
[   ]checksrc-summary.dcf29-Feb-2024 01:36 430  
[TXT]install-out.txt02-Mar-2024 01:36 1.0K 
[   ]install-summary.dcf02-Mar-2024 01:36 265