Index of /checkResults/devel/bioc-LATEST/psygenet2r/raw-results/merida1

[ICO]NameLast modifiedSizeDescription

[DIR]Parent Directory  -  
[TXT]buildbin-out.txt18-Feb-2024 16:29 1.2K 
[   ]buildbin-summary.dcf18-Feb-2024 16:29 548  
[TXT]buildsrc-out.txt18-Feb-2024 16:29 828  
[   ]buildsrc-summary.dcf18-Feb-2024 16:29 438  
[TXT]checksrc-out.txt18-Feb-2024 16:29 8.4K 
[   ]checksrc-summary.dcf18-Feb-2024 16:29 456  
[TXT]install-out.txt18-Feb-2024 16:29 1.0K 
[   ]install-summary.dcf18-Feb-2024 16:29 275