Index of /checkResults/devel/bioc-LATEST/psygenet2r/raw-results/kunpeng2

[ICO]NameLast modifiedSizeDescription

[DIR]Parent Directory  -  
[TXT]checksrc-out.txt29-Feb-2024 01:40 8.4K 
[   ]checksrc-summary.dcf29-Feb-2024 01:40 465  
[TXT]install-out.txt02-Mar-2024 01:40 1.0K 
[   ]install-summary.dcf02-Mar-2024 01:40 277  
[TXT]buildsrc-out.txt02-Mar-2024 01:40 1.4K 
[   ]buildsrc-summary.dcf02-Mar-2024 01:40 352