Index of /checkResults/devel/bioc-LATEST/psygenet2r/raw-results/kunpeng2

[ICO]NameLast modifiedSizeDescription

[DIR]Parent Directory  -  
[TXT]buildsrc-out.txt07-Dec-2023 01:39 1.2K 
[   ]buildsrc-summary.dcf07-Dec-2023 01:39 349  
[TXT]checksrc-out.txt29-Nov-2023 01:39 8.3K 
[   ]checksrc-summary.dcf29-Nov-2023 01:39 459  
[TXT]install-out.txt07-Dec-2023 01:39 1.0K 
[   ]install-summary.dcf07-Dec-2023 01:39 274