Back to Multiple platform build/check report for BioC 3.15
ABCDEFGHIJKLMNO[P]QRSTUVWXYZ

This page was generated on 2022-01-26 11:06:35 -0500 (Wed, 26 Jan 2022).

HostnameOSArch (*)R versionInstalled pkgs
nebbiolo1Linux (Ubuntu 20.04.4 LTS)x86_64R Under development (unstable) (2022-01-05 r81451) -- "Unsuffered Consequences" 4164
riesling1Windows Server 2019 Standardx64R Under development (unstable) (2021-11-21 r81221) -- "Unsuffered Consequences" 4059
palomino3Windows Server 2022 Datacenterx64R Under development (unstable) (2021-12-21 r81400 ucrt) -- "Unsuffered Consequences" 4001
merida1macOS 10.14.6 Mojavex86_64R Under development (unstable) (2022-01-05 r81451) -- "Unsuffered Consequences" 4118
Click on any hostname to see more info about the system (e.g. compilers)      (*) as reported by 'uname -p', except on Windows and Mac OS X

CHECK results for psygenet2r on nebbiolo1


To the developers/maintainers of the psygenet2r package:
- Please allow up to 24 hours (and sometimes 48 hours) for your latest push to git@git.bioconductor.org:packages/psygenet2r.git to
reflect on this report. See How and When does the builder pull? When will my changes propagate? here for more information.
- Make sure to use the following settings in order to reproduce any error or warning you see on this page.

raw results

Package 1476/2075HostnameOS / ArchINSTALLBUILDCHECKBUILD BIN
psygenet2r 1.27.0  (landing page)
Alba Gutierrez-Sacristan
Snapshot Date: 2022-01-25 13:55:17 -0500 (Tue, 25 Jan 2022)
git_url: https://git.bioconductor.org/packages/psygenet2r
git_branch: master
git_last_commit: 93ef2da
git_last_commit_date: 2021-10-26 12:26:07 -0500 (Tue, 26 Oct 2021)
nebbiolo1Linux (Ubuntu 20.04.4 LTS) / x86_64  OK    OK    OK  UNNEEDED, same version is already published
riesling1Windows Server 2019 Standard / x64  OK    OK    OK    OK  
palomino3Windows Server 2022 Datacenter / x64  OK    OK    ERROR    OK  
merida1macOS 10.14.6 Mojave / x86_64  OK    OK    ERROR    OK  

Summary

Package: psygenet2r
Version: 1.27.0
Command: /home/biocbuild/bbs-3.15-bioc/R/bin/R CMD check --install=check:psygenet2r.install-out.txt --library=/home/biocbuild/bbs-3.15-bioc/R/library --no-vignettes --timings psygenet2r_1.27.0.tar.gz
StartedAt: 2022-01-25 20:31:59 -0500 (Tue, 25 Jan 2022)
EndedAt: 2022-01-25 20:36:27 -0500 (Tue, 25 Jan 2022)
EllapsedTime: 268.1 seconds
RetCode: 0
Status:   OK  
CheckDir: psygenet2r.Rcheck
Warnings: 0

Command output

##############################################################################
##############################################################################
###
### Running command:
###
###   /home/biocbuild/bbs-3.15-bioc/R/bin/R CMD check --install=check:psygenet2r.install-out.txt --library=/home/biocbuild/bbs-3.15-bioc/R/library --no-vignettes --timings psygenet2r_1.27.0.tar.gz
###
##############################################################################
##############################################################################


* using log directory ‘/home/biocbuild/bbs-3.15-bioc/meat/psygenet2r.Rcheck’
* using R Under development (unstable) (2022-01-05 r81451)
* using platform: x86_64-pc-linux-gnu (64-bit)
* using session charset: UTF-8
* using option ‘--no-vignettes’
* checking for file ‘psygenet2r/DESCRIPTION’ ... OK
* this is package ‘psygenet2r’ version ‘1.27.0’
* checking package namespace information ... OK
* checking package dependencies ... OK
* checking if this is a source package ... OK
* checking if there is a namespace ... OK
* checking for hidden files and directories ... OK
* checking for portable file names ... OK
* checking for sufficient/correct file permissions ... OK
* checking whether package ‘psygenet2r’ can be installed ... OK
* checking installed package size ... OK
* checking package directory ... OK
* checking ‘build’ directory ... OK
* checking DESCRIPTION meta-information ... OK
* checking top-level files ... OK
* checking for left-over files ... OK
* checking index information ... OK
* checking package subdirectories ... OK
* checking R files for non-ASCII characters ... OK
* checking R files for syntax errors ... OK
* checking whether the package can be loaded ... OK
* checking whether the package can be loaded with stated dependencies ... OK
* checking whether the package can be unloaded cleanly ... OK
* checking whether the namespace can be loaded with stated dependencies ... OK
* checking whether the namespace can be unloaded cleanly ... OK
* checking dependencies in R code ... NOTE
Namespace in Imports field not imported from: ‘GO.db’
  All declared Imports should be used.
package 'methods' is used but not declared
* checking S3 generic/method consistency ... OK
* checking replacement functions ... OK
* checking foreign function calls ... OK
* checking R code for possible problems ... NOTE
.category_plot: no visible binding for global variable ‘category’
.category_plot: no visible binding for global variable ‘value’
.category_plot: no visible binding for global variable ‘variable’
.gene_plot: no visible binding for global variable ‘gene’
.gene_plot: no visible binding for global variable ‘value’
.gene_plot: no visible binding for global variable ‘variable’
.index_plot: no visible binding for global variable ‘Category’
.index_plot: no visible binding for global variable ‘value’
.index_plot: no visible binding for global variable ‘variable’
.pie_plot: no visible global function definition for ‘pie’
ListPsyGeNETIds: no visible global function definition for ‘read.csv’
disGenetCurated: no visible global function definition for ‘read.csv’
enrichedPD : <anonymous>: no visible global function definition for
  ‘phyper’
getUMLs: no visible global function definition for ‘read.csv’
jaccardEstimation: no visible binding for global variable ‘universe’
multipleInput: no visible global function definition for ‘new’
pantherGraphic: no visible binding for global variable ‘Var1’
pantherGraphic: no visible binding for global variable ‘perc’
pantherGraphic: no visible binding for global variable ‘diseases’
plot_pmids_barplot: no visible binding for global variable
  ‘c2.DiseaseName’
plot_pmids_barplot: no visible binding for global variable
  ‘c0.Number_of_Abstracts’
plot_pmids_barplot: no visible binding for global variable
  ‘c1.Gene_Symbol’
plot_psy_heatmap: no visible binding for global variable
  ‘c2.PsychiatricDisorder’
plot_psy_heatmap: no visible binding for global variable
  ‘c1.Gene_Symbol’
plot_psy_heatmap: no visible binding for global variable ‘value’
plot_psy_heatmapDisease: no visible binding for global variable
  ‘c2.DiseaseName’
plot_psy_heatmapDisease: no visible binding for global variable
  ‘c1.Gene_Symbol’
plot_psy_heatmapDisease: no visible binding for global variable
  ‘c0.Score’
plot_psy_heatmapGenes: no visible binding for global variable
  ‘c1.Gene_Symbol’
plot_psy_heatmapGenes: no visible binding for global variable
  ‘c2.DiseaseName’
plot_psy_heatmapGenes: no visible binding for global variable
  ‘c0.Score’
psyGenDisId: no visible global function definition for ‘read.csv’
psyPanther: no visible global function definition for ‘read.csv’
psygenetAll: no visible global function definition for ‘read.csv’
psygenetDisease: no visible global function definition for ‘read.csv’
psygenetDisease: no visible global function definition for ‘new’
psygenetDiseaseSentences: no visible global function definition for
  ‘read.csv’
psygenetDiseaseSentences: no visible global function definition for
  ‘new’
psygenetGene: no visible global function definition for ‘read.csv’
psygenetGene: no visible global function definition for ‘new’
psygenetGeneSentences: no visible global function definition for
  ‘read.csv’
psygenetGeneSentences: no visible global function definition for ‘new’
singleInput: no visible global function definition for ‘combn’
singleInput: no visible global function definition for ‘new’
singleInput.genes: no visible global function definition for ‘new’
topAnatEnrichment: no visible binding for global variable ‘database’
topAnatEnrichment: no visible global function definition for
  ‘read.delim’
plot,JaccardIndexPsy-ANY: no visible binding for global variable
  ‘Disease1’
plot,JaccardIndexPsy-ANY: no visible binding for global variable
  ‘Disease2’
plot,JaccardIndexPsy-ANY: no visible binding for global variable
  ‘JaccardIndex’
plot,JaccardIndexPsy-ANY: no visible binding for global variable
  ‘value’
plot,JaccardIndexPsy-ANY: no visible binding for global variable
  ‘variable’
Undefined global functions or variables:
  Category Disease1 Disease2 JaccardIndex Var1 c0.Number_of_Abstracts
  c0.Score c1.Gene_Symbol c2.DiseaseName c2.PsychiatricDisorder
  category combn database diseases gene new perc phyper pie read.csv
  read.delim universe value variable
Consider adding
  importFrom("graphics", "pie")
  importFrom("methods", "new")
  importFrom("stats", "phyper")
  importFrom("utils", "combn", "read.csv", "read.delim")
to your NAMESPACE file (and ensure that your DESCRIPTION Imports field
contains 'methods').
* checking Rd files ... OK
* checking Rd metadata ... OK
* checking Rd cross-references ... OK
* checking for missing documentation entries ... OK
* checking for code/documentation mismatches ... OK
* checking Rd \usage sections ... OK
* checking Rd contents ... OK
* checking for unstated dependencies in examples ... OK
* checking contents of ‘data’ directory ... OK
* checking data for non-ASCII characters ... OK
* checking LazyData ... OK
* checking data for ASCII and uncompressed saves ... OK
* checking files in ‘vignettes’ ... OK
* checking examples ... OK
Examples with CPU (user + system) or elapsed time > 5s
                          user system elapsed
pantherGraphic-methods   0.623  0.004   6.967
psygenetGeneSentences    0.275  0.028  30.459
enrichedPD-methods       0.090  0.003   6.701
psygenetDisease-methods  0.055  0.000   6.006
psygenetDiseaseSentences 0.027  0.011   5.409
* checking for unstated dependencies in ‘tests’ ... OK
* checking tests ...
  Running ‘testthat.R’
 OK
* checking for unstated dependencies in vignettes ... OK
* checking package vignettes in ‘inst/doc’ ... OK
* checking running R code from vignettes ... SKIPPED
* checking re-building of vignette outputs ... SKIPPED
* checking PDF version of manual ... OK
* DONE

Status: 2 NOTEs
See
  ‘/home/biocbuild/bbs-3.15-bioc/meat/psygenet2r.Rcheck/00check.log’
for details.



Installation output

psygenet2r.Rcheck/00install.out

##############################################################################
##############################################################################
###
### Running command:
###
###   /home/biocbuild/bbs-3.15-bioc/R/bin/R CMD INSTALL psygenet2r
###
##############################################################################
##############################################################################


* installing to library ‘/home/biocbuild/bbs-3.15-bioc/R/library’
* installing *source* package ‘psygenet2r’ ...
** using staged installation
** R
** data
*** moving datasets to lazyload DB
** inst
** byte-compile and prepare package for lazy loading
** help
*** installing help indices
** building package indices
** installing vignettes
** testing if installed package can be loaded from temporary location
** testing if installed package can be loaded from final location
** testing if installed package keeps a record of temporary installation path
* DONE (psygenet2r)

Tests output

psygenet2r.Rcheck/tests/testthat.Rout


R Under development (unstable) (2022-01-05 r81451) -- "Unsuffered Consequences"
Copyright (C) 2022 The R Foundation for Statistical Computing
Platform: x86_64-pc-linux-gnu (64-bit)

R is free software and comes with ABSOLUTELY NO WARRANTY.
You are welcome to redistribute it under certain conditions.
Type 'license()' or 'licence()' for distribution details.

R is a collaborative project with many contributors.
Type 'contributors()' for more information and
'citation()' on how to cite R or R packages in publications.

Type 'demo()' for some demos, 'help()' for on-line help, or
'help.start()' for an HTML browser interface to help.
Type 'q()' to quit R.

> library(testthat)
> library(psygenet2r)
> 
> test_check("psygenet2r")
[ FAIL 0 | WARN 0 | SKIP 4 | PASS 18 ]

══ Skipped tests ═══════════════════════════════════════════════════════════════
• empty test (4)

[ FAIL 0 | WARN 0 | SKIP 4 | PASS 18 ]
> 
> proc.time()
   user  system elapsed 
  5.994   0.347  85.022 

Example timings

psygenet2r.Rcheck/psygenet2r-Ex.timings

nameusersystemelapsed
JaccardIndexPsy-class0.1420.0044.915
enrichedPD-methods0.0900.0036.701
extract0.0040.0040.007
extractSentences0.0050.0000.005
getUMLs-methods0.0440.0083.790
jaccardEstimation-methods0.1350.0044.519
ndisease0.0020.0000.003
ngene0.0010.0000.002
pantherGraphic-methods0.6230.0046.967
plot-DataGeNET.Psy-ANY-method0.1030.0070.111
plot-JaccardIndexPsy-ANY-method0.0010.0000.000
psygenetDisease-methods0.0550.0006.006
psygenetDiseaseSentences0.0270.0115.409
psygenetGene-methods0.0430.0004.403
psygenetGeneSentences 0.275 0.02830.459
qr0.0010.0000.001
topAnatEnrichment-methods0.0010.0000.000
universe0.0060.0000.006