Back to Multiple platform build/check report for BioC 3.17
ABCDEFGHIJKLMNO[P]QRSTUVWXYZ

This page was generated on 2022-12-06 11:10:08 -0500 (Tue, 06 Dec 2022).

HostnameOSArch (*)R versionInstalled pkgs
nebbiolo1Linux (Ubuntu 22.04.1 LTS)x86_64R Under development (unstable) (2022-11-30 r83393) -- "Unsuffered Consequences" 4277
palomino3Windows Server 2022 Datacenterx64R Under development (unstable) (2022-11-30 r83393 ucrt) -- "Unsuffered Consequences" 4193
merida1macOS 10.14.6 Mojavex86_64R Under development (unstable) (2022-11-30 r83393) -- "Unsuffered Consequences" 4236
Click on any hostname to see more info about the system (e.g. compilers)      (*) as reported by 'uname -p', except on Windows and Mac OS X

BUILD BIN results for psygenet2r on merida1


To the developers/maintainers of the psygenet2r package:
- Please allow up to 24 hours (and sometimes 48 hours) for your latest push to git@git.bioconductor.org:packages/psygenet2r.git to
reflect on this report. See How and When does the builder pull? When will my changes propagate? for more information.
- Make sure to use the following settings in order to reproduce any error or warning you see on this page.

raw results

Package 1531/2155HostnameOS / ArchINSTALLBUILDCHECKBUILD BIN
psygenet2r 1.31.0  (landing page)
Alba Gutierrez-Sacristan
Snapshot Date: 2022-12-05 14:00:11 -0500 (Mon, 05 Dec 2022)
git_url: https://git.bioconductor.org/packages/psygenet2r
git_branch: master
git_last_commit: 68a5c85
git_last_commit_date: 2022-11-01 11:13:07 -0500 (Tue, 01 Nov 2022)
nebbiolo1Linux (Ubuntu 22.04.1 LTS) / x86_64  OK    OK    OK  UNNEEDED, same version is already published
palomino3Windows Server 2022 Datacenter / x64  OK    OK    OK    OK  UNNEEDED, same version is already published
merida1macOS 10.14.6 Mojave / x86_64  OK    OK    OK    OK  UNNEEDED, same version is already published

Summary

Package: psygenet2r
Version: 1.31.0
Command: rm -rf psygenet2r.buildbin-libdir && mkdir psygenet2r.buildbin-libdir && /Users/biocbuild/BBS/utils/build-universal.sh psygenet2r_1.31.0.tar.gz /Library/Frameworks/R.framework/Resources/bin/R psygenet2r.buildbin-libdir
StartedAt: 2022-12-06 09:10:55 -0500 (Tue, 06 Dec 2022)
EndedAt: 2022-12-06 09:12:16 -0500 (Tue, 06 Dec 2022)
EllapsedTime: 80.3 seconds
RetCode: 0
Status:   OK  
PackageFile: psygenet2r_1.31.0.tgz
PackageFileSize: 3.354 MiB

Command output

##############################################################################
##############################################################################
###
### Running command:
###
###   rm -rf psygenet2r.buildbin-libdir && mkdir psygenet2r.buildbin-libdir && /Users/biocbuild/BBS/utils/build-universal.sh psygenet2r_1.31.0.tar.gz /Library/Frameworks/R.framework/Resources/bin/R psygenet2r.buildbin-libdir
###
##############################################################################
##############################################################################


>>>>>>> 
>>>>>>> INSTALLATION WITH 'R CMD INSTALL --preclean --no-multiarch --library=psygenet2r.buildbin-libdir psygenet2r_1.31.0.tar.gz'
>>>>>>> 

* installing *source* package ‘psygenet2r’ ...
** using staged installation
** R
** data
*** moving datasets to lazyload DB
** inst
** byte-compile and prepare package for lazy loading
** help
*** installing help indices
** building package indices
** installing vignettes
** testing if installed package can be loaded from temporary location
** testing if installed package can be loaded from final location
** testing if installed package keeps a record of temporary installation path
* DONE (psygenet2r)