Index of /checkResults/devel/bioc-LATEST/proteasy/raw-results/palomino3

[ICO]NameLast modifiedSizeDescription

[DIR]Parent Directory  -  
[TXT]buildbin-out.txt23-Feb-2024 02:48 1.1K 
[   ]buildbin-summary.dcf23-Feb-2024 02:48 517  
[TXT]buildsrc-out.txt23-Feb-2024 02:48 880  
[   ]buildsrc-summary.dcf23-Feb-2024 02:48 454  
[TXT]checksrc-out.txt23-Feb-2024 02:48 3.1K 
[   ]checksrc-summary.dcf23-Feb-2024 02:48 449  
[TXT]install-out.txt23-Feb-2024 02:48 965  
[   ]install-summary.dcf23-Feb-2024 02:48 268