Index of /checkResults/devel/bioc-LATEST/proteasy/raw-results/merida1

[ICO]NameLast modifiedSizeDescription

[DIR]Parent Directory  -  
[TXT]buildbin-out.txt18-Feb-2024 16:29 1.1K 
[   ]buildbin-summary.dcf18-Feb-2024 16:29 532  
[TXT]buildsrc-out.txt18-Feb-2024 16:29 859  
[   ]buildsrc-summary.dcf18-Feb-2024 16:29 428  
[TXT]checksrc-out.txt18-Feb-2024 16:29 3.2K 
[   ]checksrc-summary.dcf18-Feb-2024 16:29 446  
[TXT]install-out.txt18-Feb-2024 16:29 1.0K 
[   ]install-summary.dcf18-Feb-2024 16:29 269