Index of /checkResults/devel/bioc-LATEST/proteasy/raw-results

[ICO]NameLast modifiedSizeDescription

[DIR]Parent Directory  -  
[DIR]kunpeng2/02-Mar-2024 01:40 -  
[DIR]merida1/02-Mar-2024 01:39 -  
[DIR]nebbiolo1/02-Mar-2024 01:36 -  
[DIR]palomino3/02-Mar-2024 01:38 -  
[   ]info.dcf02-Mar-2024 01:35 268