Name | Last modified | Size | Description | |
---|---|---|---|---|
Parent Directory | - | |||
checksrc-out.txt | 17-Jul-2024 00:44 | 4.4K | ||
buildbin-out.txt | 17-Jul-2024 00:44 | 1.3K | ||
install-out.txt | 17-Jul-2024 00:44 | 1.2K | ||
buildsrc-out.txt | 17-Jul-2024 00:44 | 820 | ||
buildbin-summary.dcf | 17-Jul-2024 00:44 | 535 | ||
checksrc-summary.dcf | 17-Jul-2024 00:44 | 447 | ||
buildsrc-summary.dcf | 17-Jul-2024 00:44 | 430 | ||
install-summary.dcf | 17-Jul-2024 00:44 | 270 | ||