Back to Multiple platform build/check report for BioC 3.13 |
|
This page was generated on 2021-01-25 12:37:16 -0500 (Mon, 25 Jan 2021).
TO THE DEVELOPERS/MAINTAINERS OF THE procoil PACKAGE: Please make sure to use the following settings in order to reproduce any error or warning you see on this page. |
Package 1358/1938 | Hostname | OS / Arch | INSTALL | BUILD | CHECK | BUILD BIN | ||||||
procoil 2.19.0 Ulrich Bodenhofer
| malbec2 | Linux (Ubuntu 20.04.1 LTS) / x86_64 | OK | OK | OK | ![]() | ||||||
tokay2 | Windows Server 2012 R2 Standard / x64 | [ OK ] | OK | OK | OK | ![]() | ||||||
riesling1 | Windows Server 2019 Standard / x64 | OK | OK | OK | OK | |||||||
machv2 | macOS 10.14.6 Mojave / x86_64 | OK | OK | OK | OK | ![]() |
Package: procoil |
Version: 2.19.0 |
Command: C:\cygwin\bin\curl.exe -O https://malbec2.bioconductor.org/BBS/3.13/bioc/src/contrib/procoil_2.19.0.tar.gz && rm -rf procoil.buildbin-libdir && mkdir procoil.buildbin-libdir && C:\Users\biocbuild\bbs-3.13-bioc\R\bin\R.exe CMD INSTALL --merge-multiarch --build --library=procoil.buildbin-libdir procoil_2.19.0.tar.gz && C:\Users\biocbuild\bbs-3.13-bioc\R\bin\R.exe CMD INSTALL procoil_2.19.0.zip && rm procoil_2.19.0.tar.gz procoil_2.19.0.zip |
StartedAt: 2021-01-24 20:00:23 -0500 (Sun, 24 Jan 2021) |
EndedAt: 2021-01-24 20:01:41 -0500 (Sun, 24 Jan 2021) |
EllapsedTime: 78.5 seconds |
RetCode: 0 |
Status: OK |
############################################################################## ############################################################################## ### ### Running command: ### ### C:\cygwin\bin\curl.exe -O https://malbec2.bioconductor.org/BBS/3.13/bioc/src/contrib/procoil_2.19.0.tar.gz && rm -rf procoil.buildbin-libdir && mkdir procoil.buildbin-libdir && C:\Users\biocbuild\bbs-3.13-bioc\R\bin\R.exe CMD INSTALL --merge-multiarch --build --library=procoil.buildbin-libdir procoil_2.19.0.tar.gz && C:\Users\biocbuild\bbs-3.13-bioc\R\bin\R.exe CMD INSTALL procoil_2.19.0.zip && rm procoil_2.19.0.tar.gz procoil_2.19.0.zip ### ############################################################################## ############################################################################## % Total % Received % Xferd Average Speed Time Time Time Current Dload Upload Total Spent Left Speed 0 0 0 0 0 0 0 0 --:--:-- --:--:-- --:--:-- 0 0 831k 0 0 0 0 0 0 --:--:-- --:--:-- --:--:-- 0 100 831k 100 831k 0 0 2568k 0 --:--:-- --:--:-- --:--:-- 2613k install for i386 * installing *source* package 'procoil' ... ** using staged installation ** R ** data *** moving datasets to lazyload DB ** inst ** byte-compile and prepare package for lazy loading ** help *** installing help indices converting help for package 'procoil' finding HTML links ... done CCModel-FileOps html REDIRECT:topic CCModel-FileOps -> CCModel-FileOps.html [ SUCCESS ] REDIRECT:topic readCCModel -> CCModel-FileOps.html [ SUCCESS ] REDIRECT:topic writeCCModel -> CCModel-FileOps.html [ SUCCESS ] CCModel-class html REDIRECT:topic CCModel-class -> CCModel-class.html [ SUCCESS ] REDIRECT:topic CCModel -> CCModel-class.html [ SUCCESS ] REDIRECT:topic PrOCoilModel -> CCModel-class.html [ SUCCESS ] REDIRECT:topic PrOCoilModelBA -> CCModel-class.html [ SUCCESS ] REDIRECT:topic weights,CCModel-method -> CCModel-class.html [ SUCCESS ] REDIRECT:topic show,CCModel-method -> CCModel-class.html [ SUCCESS ] REDIRECT:topic show.CCModel -> CCModel-class.html [ SUCCESS ] REDIRECT:topic weights.CCModel -> CCModel-class.html [ SUCCESS ] CCProfile-class html REDIRECT:topic CCProfile-class -> CCProfile-class.html [ SUCCESS ] REDIRECT:topic CCProfile -> CCProfile-class.html [ SUCCESS ] REDIRECT:topic [,CCProfile,index,ANY,ANY-method -> CCProfile-class.html [ SUCCESS ] REDIRECT:topic show,CCProfile-method -> CCProfile-class.html [ SUCCESS ] REDIRECT:topic heatmap,CCProfile,missing-method -> CCProfile-class.html [ SUCCESS ] REDIRECT:topic baselines,CCProfile-method -> CCProfile-class.html [ SUCCESS ] REDIRECT:topic profiles,CCProfile-method -> CCProfile-class.html [ SUCCESS ] REDIRECT:topic profile,CCProfile-method -> CCProfile-class.html [ SUCCESS ] REDIRECT:topic sequences,CCProfile-method -> CCProfile-class.html [ SUCCESS ] REDIRECT:topic fitted,CCProfile-method -> CCProfile-class.html [ SUCCESS ] REDIRECT:topic show.CCProfile -> CCProfile-class.html [ SUCCESS ] REDIRECT:topic heatmap.CCProfile -> CCProfile-class.html [ SUCCESS ] REDIRECT:topic baselines.CCProfile -> CCProfile-class.html [ SUCCESS ] REDIRECT:topic profiles.CCProfile -> CCProfile-class.html [ SUCCESS ] REDIRECT:topic profile.CCProfile -> CCProfile-class.html [ SUCCESS ] REDIRECT:topic sequences.CCProfile -> CCProfile-class.html [ SUCCESS ] REDIRECT:topic fitted.CCProfile -> CCProfile-class.html [ SUCCESS ] finding level-2 HTML links ... done plot-methods html REDIRECT:topic plot -> plot-methods.html [ SUCCESS ] REDIRECT:topic plot-methods -> plot-methods.html [ SUCCESS ] REDIRECT:topic plot,CCProfile,missing-method -> plot-methods.html [ SUCCESS ] REDIRECT:topic plot.CCProfile -> plot-methods.html [ SUCCESS ] predict-methods html REDIRECT:topic predict -> predict-methods.html [ SUCCESS ] REDIRECT:topic predict-methods -> predict-methods.html [ SUCCESS ] REDIRECT:topic predict,CCModel-method -> predict-methods.html [ SUCCESS ] REDIRECT:topic predict.CCModel -> predict-methods.html [ SUCCESS ] procoil-package html REDIRECT:topic procoil-package -> procoil-package.html [ SUCCESS ] REDIRECT:topic procoil -> procoil-package.html [ SUCCESS ] ** building package indices ** installing vignettes ** testing if installed package can be loaded from temporary location ** testing if installed package can be loaded from final location ** testing if installed package keeps a record of temporary installation path install for x64 * installing *source* package 'procoil' ... ** testing if installed package can be loaded * MD5 sums packaged installation of 'procoil' as procoil_2.19.0.zip * DONE (procoil) * installing to library 'C:/Users/biocbuild/bbs-3.13-bioc/R/library' package 'procoil' successfully unpacked and MD5 sums checked