Back to Multiple platform build/check report for BioC 3.13
ABCDEFGHIJKLMNO[P]QRSTUVWXYZ

BUILD report for procoil on malbec2

This page was generated on 2021-01-24 12:31:12 -0500 (Sun, 24 Jan 2021).

TO THE DEVELOPERS/MAINTAINERS OF THE procoil PACKAGE: Please make sure to use the following settings in order to reproduce any error or warning you see on this page.
Package 1354/1932HostnameOS / ArchINSTALLBUILDCHECKBUILD BIN
procoil 2.19.0
Ulrich Bodenhofer
Snapshot Date: 2021-01-23 14:40:18 -0500 (Sat, 23 Jan 2021)
URL: https://git.bioconductor.org/packages/procoil
Branch: master
Last Commit: 5848f71
Last Changed Date: 2020-10-27 10:40:18 -0500 (Tue, 27 Oct 2020)
malbec2 Linux (Ubuntu 20.04.1 LTS) / x86_64  OK [ OK ] OK UNNEEDED, same version exists in internal repository
tokay2 Windows Server 2012 R2 Standard / x64  OK  OK  OK  OK UNNEEDED, same version exists in internal repository
riesling1 Windows Server 2019 Standard / x64  OK  OK  OK  OK 
machv2 macOS 10.14.6 Mojave / x86_64  OK  OK  OK  OK UNNEEDED, same version exists in internal repository

Summary

Package: procoil
Version: 2.19.0
Command: /home/biocbuild/bbs-3.13-bioc/R/bin/R CMD build --keep-empty-dirs --no-resave-data procoil
StartedAt: 2021-01-23 21:07:18 -0500 (Sat, 23 Jan 2021)
EndedAt: 2021-01-23 21:08:00 -0500 (Sat, 23 Jan 2021)
EllapsedTime: 42.8 seconds
RetCode: 0
Status:  OK 
PackageFile: procoil_2.19.0.tar.gz
PackageFileSize: 1.372 MiB

Command output

##############################################################################
##############################################################################
###
### Running command:
###
###   /home/biocbuild/bbs-3.13-bioc/R/bin/R CMD build --keep-empty-dirs --no-resave-data procoil
###
##############################################################################
##############################################################################


* checking for file ‘procoil/DESCRIPTION’ ... OK
* preparing ‘procoil’:
* checking DESCRIPTION meta-information ... OK
* installing the package to build vignettes
* creating vignettes ... OK
* checking for LF line-endings in source and make files and shell scripts
* checking for empty or unneeded directories
* building ‘procoil_2.19.0.tar.gz’