Back to Multiple platform build/check report for BioC 3.13
ABCDEFGHIJKLMNO[P]QRSTUVWXYZ

BUILD report for procoil on machv2

This page was generated on 2021-01-25 12:43:44 -0500 (Mon, 25 Jan 2021).

TO THE DEVELOPERS/MAINTAINERS OF THE procoil PACKAGE: Please make sure to use the following settings in order to reproduce any error or warning you see on this page.
Package 1358/1938HostnameOS / ArchINSTALLBUILDCHECKBUILD BIN
procoil 2.19.0
Ulrich Bodenhofer
Snapshot Date: 2021-01-24 14:40:26 -0500 (Sun, 24 Jan 2021)
URL: https://git.bioconductor.org/packages/procoil
Branch: master
Last Commit: 5848f71
Last Changed Date: 2020-10-27 10:40:18 -0500 (Tue, 27 Oct 2020)
malbec2 Linux (Ubuntu 20.04.1 LTS) / x86_64  OK  OK  OK UNNEEDED, same version exists in internal repository
tokay2 Windows Server 2012 R2 Standard / x64  OK  OK  OK  OK UNNEEDED, same version exists in internal repository
riesling1 Windows Server 2019 Standard / x64  OK  OK  OK  OK 
machv2 macOS 10.14.6 Mojave / x86_64  OK [ OK ] OK  OK UNNEEDED, same version exists in internal repository

Summary

Package: procoil
Version: 2.19.0
Command: /Library/Frameworks/R.framework/Versions/Current/Resources/bin/R CMD build --keep-empty-dirs --no-resave-data procoil
StartedAt: 2021-01-24 20:41:34 -0500 (Sun, 24 Jan 2021)
EndedAt: 2021-01-24 20:42:30 -0500 (Sun, 24 Jan 2021)
EllapsedTime: 55.7 seconds
RetCode: 0
Status:  OK 
PackageFile: procoil_2.19.0.tar.gz
PackageFileSize: 1.416 MiB

Command output

##############################################################################
##############################################################################
###
### Running command:
###
###   /Library/Frameworks/R.framework/Versions/Current/Resources/bin/R CMD build --keep-empty-dirs --no-resave-data procoil
###
##############################################################################
##############################################################################


* checking for file ‘procoil/DESCRIPTION’ ... OK
* preparing ‘procoil’:
* checking DESCRIPTION meta-information ... OK
* installing the package to build vignettes
* creating vignettes ... OK
* checking for LF line-endings in source and make files and shell scripts
* checking for empty or unneeded directories
* building ‘procoil_2.19.0.tar.gz’