Back to Multiple platform build/check report for BioC 3.14
ABCDEFGHIJKLMNO[P]QRSTUVWXYZ

This page was generated on 2021-10-23 14:06:39 -0400 (Sat, 23 Oct 2021).

INSTALL results for proFIA on riesling1

To the developers/maintainers of the proFIA package:
- Please allow up to 24 hours (and sometimes 48 hours) for your latest push to git@git.bioconductor.org:packages/proFIA.git to
reflect on this report. See How and When does the builder pull? When will my changes propagate? here for more information.
- Make sure to use the following settings in order to reproduce any error or warning you see on this page.

raw results

Package 1463/2083HostnameOS / ArchINSTALLBUILDCHECKBUILD BIN
proFIA 1.19.0  (landing page)
Alexis Delabriere
Snapshot Date: 2021-10-22 14:50:11 -0400 (Fri, 22 Oct 2021)
git_url: https://git.bioconductor.org/packages/proFIA
git_branch: master
git_last_commit: 8bd7af7
git_last_commit_date: 2021-05-19 12:24:19 -0400 (Wed, 19 May 2021)
nebbiolo2Linux (Ubuntu 20.04.2 LTS) / x86_64  OK    OK    WARNINGS  UNNEEDED, same version is already published
riesling1Windows Server 2019 Standard / x64  OK    OK    WARNINGS    OK  UNNEEDED, same version is already published
merida1macOS 10.14.6 Mojave / x86_64  OK    OK    WARNINGS    OK  UNNEEDED, same version is already published

Summary

Package: proFIA
Version: 1.19.0
Command: C:\cygwin\bin\curl.exe -O http://155.52.207.166/BBS/3.14/bioc/src/contrib/proFIA_1.19.0.tar.gz && rm -rf proFIA.buildbin-libdir && mkdir proFIA.buildbin-libdir && D:\biocbuild\bbs-3.14-bioc\R\bin\R.exe CMD INSTALL --merge-multiarch --build --library=proFIA.buildbin-libdir proFIA_1.19.0.tar.gz && D:\biocbuild\bbs-3.14-bioc\R\bin\R.exe CMD INSTALL proFIA_1.19.0.zip && rm proFIA_1.19.0.tar.gz proFIA_1.19.0.zip
StartedAt: 2021-10-22 18:08:31 -0400 (Fri, 22 Oct 2021)
EndedAt: 2021-10-22 18:12:06 -0400 (Fri, 22 Oct 2021)
EllapsedTime: 214.5 seconds
RetCode: 0
Status:   OK  

Command output

##############################################################################
##############################################################################
###
### Running command:
###
###   C:\cygwin\bin\curl.exe -O http://155.52.207.166/BBS/3.14/bioc/src/contrib/proFIA_1.19.0.tar.gz && rm -rf proFIA.buildbin-libdir && mkdir proFIA.buildbin-libdir && D:\biocbuild\bbs-3.14-bioc\R\bin\R.exe CMD INSTALL --merge-multiarch --build --library=proFIA.buildbin-libdir proFIA_1.19.0.tar.gz && D:\biocbuild\bbs-3.14-bioc\R\bin\R.exe CMD INSTALL proFIA_1.19.0.zip && rm proFIA_1.19.0.tar.gz proFIA_1.19.0.zip
###
##############################################################################
##############################################################################


  % Total    % Received % Xferd  Average Speed   Time    Time     Time  Current
                                 Dload  Upload   Total   Spent    Left  Speed

  0     0    0     0    0     0      0      0 --:--:-- --:--:-- --:--:--     0
100  744k  100  744k    0     0  2463k      0 --:--:-- --:--:-- --:--:-- 2463k

install for i386

* installing *source* package 'proFIA' ...
** using staged installation
** libs
"C:/rtools40/mingw32/bin/"gcc  -I"D:/biocbuild/bbs-3.14-bioc/R/include" -DNDEBUG     -I"C:/extsoft/include"     -O2 -Wall  -std=gnu99 -mfpmath=sse -msse2 -mstackrealign  -c FIABandsExtractionCentroid.c -o FIABandsExtractionCentroid.o
"C:/rtools40/mingw32/bin/"gcc  -I"D:/biocbuild/bbs-3.14-bioc/R/include" -DNDEBUG     -I"C:/extsoft/include"     -O2 -Wall  -std=gnu99 -mfpmath=sse -msse2 -mstackrealign  -c UtilFunc.c -o UtilFunc.o
"C:/rtools40/mingw32/bin/"gcc  -I"D:/biocbuild/bbs-3.14-bioc/R/include" -DNDEBUG     -I"C:/extsoft/include"     -O2 -Wall  -std=gnu99 -mfpmath=sse -msse2 -mstackrealign  -c fastMatchPpm.c -o fastMatchPpm.o
C:/rtools40/mingw32/bin/gcc -shared -s -static-libgcc -o proFIA.dll tmp.def FIABandsExtractionCentroid.o UtilFunc.o fastMatchPpm.o -LC:/extsoft/lib/i386 -LC:/extsoft/lib -LD:/biocbuild/bbs-3.14-bioc/R/bin/i386 -lR
installing to D:/biocbuild/bbs-3.14-bioc/meat/proFIA.buildbin-libdir/00LOCK-proFIA/00new/proFIA/libs/i386
** R
** inst
** byte-compile and prepare package for lazy loading
** help
*** installing help indices
  converting help for package 'proFIA'
    finding HTML links ... done
    acquisitionDirectory                    html  
    analyzeAcquisitionFIA                   html  
    determiningInjectionZone                html  
    determiningSizePeak.Geom                html  
    estimateNoiseMS                         html  
    exportDataMatrix-proFIAset-method       html  
    exportExpressionSet-proFIAset-method    html  
    exportPeakTable-proFIAset-method        html  
    exportSampleMetadata-proFIAset-method   html  
    exportVariableMetadata-proFIAset-method
                                            html  
    findBandsFIA                            html  
    findFIASignal                           html  
    findMzGroup-proFIAset-method            html  
    getInjectionPeak                        html  
    group.FIA-proFIAset-method              html  
    impute.FIA-proFIAset-method             html  
    impute.KNN_TN-proFIAset-method          html  
    impute.randomForest-proFIAset-method    html  
    makeDataMatrix-proFIAset-method         html  
    noiseEstimation-class                   html  
    peaksGroup-proFIAset-method             html  
    plot                                    html  
    plotFlowgrams-proFIAset-method          html  
    plotNoise                               html  
    plotRaw-proFIAset-method                html  
    plotSamplePeaks-proFIAset-method        html  
    proFIA-package                          html  
    proFIAset-class                         html  
    proFIAset                               html  
** building package indices
** installing vignettes
** testing if installed package can be loaded from temporary location
** testing if installed package can be loaded from final location
** testing if installed package keeps a record of temporary installation path

install for x64

* installing *source* package 'proFIA' ...
** libs
"C:/rtools40/mingw64/bin/"gcc  -I"D:/biocbuild/bbs-3.14-bioc/R/include" -DNDEBUG     -I"C:/extsoft/include"     -O2 -Wall  -std=gnu99 -mfpmath=sse -msse2 -mstackrealign  -c FIABandsExtractionCentroid.c -o FIABandsExtractionCentroid.o
"C:/rtools40/mingw64/bin/"gcc  -I"D:/biocbuild/bbs-3.14-bioc/R/include" -DNDEBUG     -I"C:/extsoft/include"     -O2 -Wall  -std=gnu99 -mfpmath=sse -msse2 -mstackrealign  -c UtilFunc.c -o UtilFunc.o
"C:/rtools40/mingw64/bin/"gcc  -I"D:/biocbuild/bbs-3.14-bioc/R/include" -DNDEBUG     -I"C:/extsoft/include"     -O2 -Wall  -std=gnu99 -mfpmath=sse -msse2 -mstackrealign  -c fastMatchPpm.c -o fastMatchPpm.o
C:/rtools40/mingw64/bin/gcc -shared -s -static-libgcc -o proFIA.dll tmp.def FIABandsExtractionCentroid.o UtilFunc.o fastMatchPpm.o -LC:/extsoft/lib/x64 -LC:/extsoft/lib -LD:/biocbuild/bbs-3.14-bioc/R/bin/x64 -lR
installing to D:/biocbuild/bbs-3.14-bioc/meat/proFIA.buildbin-libdir/proFIA/libs/x64
** testing if installed package can be loaded
* MD5 sums
packaged installation of 'proFIA' as proFIA_1.19.0.zip
* DONE (proFIA)
* installing to library 'D:/biocbuild/bbs-3.14-bioc/R/library'
package 'proFIA' successfully unpacked and MD5 sums checked