Index of /checkResults/devel/bioc-LATEST/proFIA/raw-results/nebbiolo1

[ICO]NameLast modifiedSizeDescription

[DIR]Parent Directory  -  
[TXT]buildsrc-out.txt22-Jan-2022 01:06 832  
[   ]buildsrc-summary.dcf22-Jan-2022 01:06 415  
[TXT]checksrc-out.txt22-Jan-2022 01:06 4.0K 
[   ]checksrc-summary.dcf22-Jan-2022 01:06 426  
[TXT]install-out.txt22-Jan-2022 01:06 1.7K 
[   ]install-summary.dcf22-Jan-2022 01:06 257