Index of /checkResults/devel/bioc-LATEST/proFIA/raw-results

[ICO]NameLast modifiedSizeDescription

[DIR]Parent Directory  -  
[   ]info.dcf06-Dec-2022 01:10 276  
[DIR]merida1/06-Dec-2022 01:10 -  
[DIR]nebbiolo1/06-Dec-2022 01:06 -  
[DIR]palomino3/06-Dec-2022 01:08 -