Back to Multiple platform build/check report for BioC 3.15
ABCDEFGHIJKLMNO[P]QRSTUVWXYZ

This page was generated on 2022-01-28 11:08:34 -0500 (Fri, 28 Jan 2022).

HostnameOSArch (*)R versionInstalled pkgs
nebbiolo1Linux (Ubuntu 20.04.4 LTS)x86_64R Under development (unstable) (2022-01-05 r81451) -- "Unsuffered Consequences" 4167
riesling1Windows Server 2019 Standardx64R Under development (unstable) (2021-11-21 r81221) -- "Unsuffered Consequences" 4062
palomino3Windows Server 2022 Datacenterx64R Under development (unstable) (2021-12-21 r81400 ucrt) -- "Unsuffered Consequences" 4004
merida1macOS 10.14.6 Mojavex86_64R Under development (unstable) (2022-01-05 r81451) -- "Unsuffered Consequences" 4121
Click on any hostname to see more info about the system (e.g. compilers)      (*) as reported by 'uname -p', except on Windows and Mac OS X

BUILD BIN results for proBAMr on riesling1


To the developers/maintainers of the proBAMr package:
- Please allow up to 24 hours (and sometimes 48 hours) for your latest push to git@git.bioconductor.org:packages/proBAMr.git to
reflect on this report. See How and When does the builder pull? When will my changes propagate? here for more information.
- Make sure to use the following settings in order to reproduce any error or warning you see on this page.

raw results

Package 1454/2077HostnameOS / ArchINSTALLBUILDCHECKBUILD BIN
proBAMr 1.29.0  (landing page)
Xiaojing Wang
Snapshot Date: 2022-01-27 13:55:17 -0500 (Thu, 27 Jan 2022)
git_url: https://git.bioconductor.org/packages/proBAMr
git_branch: master
git_last_commit: d612e19
git_last_commit_date: 2021-10-26 12:16:35 -0500 (Tue, 26 Oct 2021)
nebbiolo1Linux (Ubuntu 20.04.4 LTS) / x86_64  OK    OK    OK  UNNEEDED, same version is already published
riesling1Windows Server 2019 Standard / x64  OK    OK    OK    OK  
palomino3Windows Server 2022 Datacenter / x64  OK    OK    OK    OK  NO, package depends on 'IRanges' which is not available
merida1macOS 10.14.6 Mojave / x86_64  OK    OK    OK    OK  UNNEEDED, same version is already published

Summary

Package: proBAMr
Version: 1.29.0
Command: rm -rf proBAMr.buildbin-libdir && mkdir proBAMr.buildbin-libdir && D:\biocbuild\bbs-3.15-bioc\R\bin\R.exe CMD INSTALL --build --library=proBAMr.buildbin-libdir proBAMr_1.29.0.tar.gz
StartedAt: 2022-01-27 21:15:35 -0500 (Thu, 27 Jan 2022)
EndedAt: 2022-01-27 21:16:37 -0500 (Thu, 27 Jan 2022)
EllapsedTime: 62.1 seconds
RetCode: 0
Status:   OK  
PackageFile: proBAMr_1.29.0.zip
PackageFileSize: 571.3 KiB

Command output

##############################################################################
##############################################################################
###
### Running command:
###
###   rm -rf proBAMr.buildbin-libdir && mkdir proBAMr.buildbin-libdir && D:\biocbuild\bbs-3.15-bioc\R\bin\R.exe CMD INSTALL --build --library=proBAMr.buildbin-libdir proBAMr_1.29.0.tar.gz
###
##############################################################################
##############################################################################


* installing *source* package 'proBAMr' ...
** using staged installation
** R
** inst
** byte-compile and prepare package for lazy loading
** help
*** installing help indices
  converting help for package 'proBAMr'
    finding HTML links ... done
    PSMtab2SAM                              html  
    PrepareAnnotationGENCODE                html  
** building package indices
** installing vignettes
** testing if installed package can be loaded from temporary location
** testing if installed package can be loaded from final location
** testing if installed package keeps a record of temporary installation path
* MD5 sums
packaged installation of 'proBAMr' as proBAMr_1.29.0.zip
* DONE (proBAMr)