Index of /checkResults/devel/bioc-LATEST/proBAMr/raw-results/palomino4

[ICO]NameLast modifiedSizeDescription

[DIR]Parent Directory  -  
[TXT]buildbin-out.txt02-Jul-2022 00:06 1.1K 
[   ]buildbin-summary.dcf02-Jul-2022 00:06 533  
[TXT]buildsrc-out.txt02-Jul-2022 00:06 839  
[   ]buildsrc-summary.dcf02-Jul-2022 00:06 452  
[TXT]checksrc-out.txt02-Jul-2022 00:06 3.2K 
[   ]checksrc-summary.dcf02-Jul-2022 00:06 450  
[TXT]install-out.txt02-Jul-2022 00:06 1.8K 
[   ]install-summary.dcf02-Jul-2022 00:06 628