Index of /checkResults/devel/bioc-LATEST/proBAMr/raw-results

[ICO]NameLast modifiedSizeDescription

[DIR]Parent Directory  -  
[DIR]lconway/25-Jun-2022 00:08 -  
[DIR]nebbiolo2/28-Jun-2022 00:05 -  
[DIR]palomino4/25-Jun-2022 00:06 -  
[   ]info.dcf28-Jun-2022 00:05 274