Index of /checkResults/devel/bioc-LATEST/proActiv/raw-results
Name
Last modified
Size
Description
Parent Directory
-
info.dcf
03-Jun-2023 00:07
264
lconway/
03-Jun-2023 00:07
-
nebbiolo2/
03-Jun-2023 00:05
-
palomino4/
03-Jun-2023 00:06
-