Name | Last modified | Size | Description | |
---|---|---|---|---|
Parent Directory | - | |||
buildbin-out.txt | 04-May-2024 00:38 | 37K | ||
buildbin-summary.dcf | 04-May-2024 00:38 | 572 | ||
buildsrc-out.txt | 04-May-2024 00:38 | 811 | ||
buildsrc-summary.dcf | 04-May-2024 00:38 | 447 | ||
checksrc-out.txt | 04-May-2024 00:38 | 6.0K | ||
checksrc-summary.dcf | 04-May-2024 00:38 | 477 | ||
install-out.txt | 04-May-2024 00:38 | 33K | ||
install-summary.dcf | 04-May-2024 00:38 | 283 | ||