Index of /checkResults/devel/bioc-LATEST/prebs/raw-results
Name
Last modified
Size
Description
Parent Directory
-
info.dcf
04-Jun-2023 00:07
270
lconway/
04-Jun-2023 00:07
-
nebbiolo2/
04-Jun-2023 00:05
-
palomino4/
04-Jun-2023 00:06
-