Name | Last modified | Size | Description | |
---|---|---|---|---|
Parent Directory | - | |||
install-out.txt | 02-May-2024 00:40 | 23K | ||
install-summary.dcf | 02-May-2024 00:40 | 268 | ||
buildsrc-out.txt | 02-May-2024 00:40 | 845 | ||
buildsrc-summary.dcf | 02-May-2024 00:40 | 425 | ||
checksrc-summary.dcf | 02-May-2024 00:40 | 440 | ||
checksrc-out.txt | 02-May-2024 00:40 | 11K | ||
buildbin-summary.dcf | 02-May-2024 00:40 | 525 | ||
buildbin-out.txt | 02-May-2024 00:40 | 25K | ||