Back to Multiple platform build/check report for BioC 3.15
ABCDEFGHIJKLMNO[P]QRSTUVWXYZ

This page was generated on 2022-01-21 11:08:16 -0500 (Fri, 21 Jan 2022).

HostnameOSArch (*)R versionInstalled pkgs
nebbiolo1Linux (Ubuntu 20.04.4 LTS)x86_64R Under development (unstable) (2022-01-05 r81451) -- "Unsuffered Consequences" 4163
riesling1Windows Server 2019 Standardx64R Under development (unstable) (2021-11-21 r81221) -- "Unsuffered Consequences" 4058
palomino3Windows Server 2022 Datacenterx64R Under development (unstable) (2021-12-21 r81400 ucrt) -- "Unsuffered Consequences" 4000
merida1macOS 10.14.6 Mojavex86_64R Under development (unstable) (2022-01-05 r81451) -- "Unsuffered Consequences" 4117
Click on any hostname to see more info about the system (e.g. compilers)      (*) as reported by 'uname -p', except on Windows and Mac OS X

CHECK results for pogos on riesling1


To the developers/maintainers of the pogos package:
- Please allow up to 24 hours (and sometimes 48 hours) for your latest push to git@git.bioconductor.org:packages/pogos.git to
reflect on this report. See How and When does the builder pull? When will my changes propagate? here for more information.
- Make sure to use the following settings in order to reproduce any error or warning you see on this page.

raw results

Package 1433/2075HostnameOS / ArchINSTALLBUILDCHECKBUILD BIN
pogos 1.15.1  (landing page)
VJ Carey
Snapshot Date: 2022-01-20 13:55:17 -0500 (Thu, 20 Jan 2022)
git_url: https://git.bioconductor.org/packages/pogos
git_branch: master
git_last_commit: af009bd
git_last_commit_date: 2021-11-21 00:42:47 -0500 (Sun, 21 Nov 2021)
nebbiolo1Linux (Ubuntu 20.04.4 LTS) / x86_64  OK    OK    OK  UNNEEDED, same version is already published
riesling1Windows Server 2019 Standard / x64  OK    OK    OK    OK  
palomino3Windows Server 2022 Datacenter / x64  OK    OK    OK    OK  NO, package depends on 'S4Vectors' which is not available
merida1macOS 10.14.6 Mojave / x86_64  OK    OK    OK    OK  UNNEEDED, same version is already published

Summary

Package: pogos
Version: 1.15.1
Command: D:\biocbuild\bbs-3.15-bioc\R\bin\R.exe CMD check --no-multiarch --install=check:pogos.install-out.txt --library=D:\biocbuild\bbs-3.15-bioc\R\library --no-vignettes --timings pogos_1.15.1.tar.gz
StartedAt: 2022-01-20 19:42:27 -0500 (Thu, 20 Jan 2022)
EndedAt: 2022-01-20 19:44:25 -0500 (Thu, 20 Jan 2022)
EllapsedTime: 118.4 seconds
RetCode: 0
Status:   OK  
CheckDir: pogos.Rcheck
Warnings: 0

Command output

##############################################################################
##############################################################################
###
### Running command:
###
###   D:\biocbuild\bbs-3.15-bioc\R\bin\R.exe CMD check --no-multiarch --install=check:pogos.install-out.txt --library=D:\biocbuild\bbs-3.15-bioc\R\library --no-vignettes --timings pogos_1.15.1.tar.gz
###
##############################################################################
##############################################################################


* using log directory 'D:/biocbuild/bbs-3.15-bioc/meat/pogos.Rcheck'
* using R Under development (unstable) (2021-11-21 r81221)
* using platform: x86_64-w64-mingw32 (64-bit)
* using session charset: ISO8859-1
* using option '--no-vignettes'
* checking for file 'pogos/DESCRIPTION' ... OK
* this is package 'pogos' version '1.15.1'
* checking package namespace information ... OK
* checking package dependencies ... OK
* checking if this is a source package ... OK
* checking if there is a namespace ... OK
* checking for hidden files and directories ... OK
* checking for portable file names ... OK
* checking whether package 'pogos' can be installed ... OK
* checking installed package size ... OK
* checking package directory ... OK
* checking 'build' directory ... OK
* checking DESCRIPTION meta-information ... OK
* checking top-level files ... OK
* checking for left-over files ... OK
* checking index information ... OK
* checking package subdirectories ... OK
* checking R files for non-ASCII characters ... OK
* checking R files for syntax errors ... OK
* checking whether the package can be loaded ... OK
* checking whether the package can be loaded with stated dependencies ... OK
* checking whether the package can be unloaded cleanly ... OK
* checking whether the namespace can be loaded with stated dependencies ... OK
* checking whether the namespace can be unloaded cleanly ... OK
* checking dependencies in R code ... OK
* checking S3 generic/method consistency ... OK
* checking replacement functions ... OK
* checking foreign function calls ... OK
* checking R code for possible problems ... NOTE
compoundsByCell: no visible binding for global variable 'cell_lines_v1'
compoundsByCell: no visible binding for global variable 'compounds_v1'
compoundsByCell: no visible binding for global variable 'datasets_v1'
lkc: no visible binding for global variable 'cell_lines_v1'
lkc: no visible binding for global variable 'compounds_v1'
lkc: no visible binding for global variable 'datasets_v1'
plot,DRProfSet-missing: no visible binding for global variable 'dose'
plot,DRProfSet-missing: no visible binding for global variable
  'response'
plot,DRProfSet-missing: no visible binding for global variable 'drug'
plot,DRTraceSet-missing: no visible binding for global variable 'dose'
plot,DRTraceSet-missing: no visible binding for global variable
  'response'
plot,DRTraceSet-missing: no visible binding for global variable
  'cell_line'
Undefined global functions or variables:
  cell_line cell_lines_v1 compounds_v1 datasets_v1 dose drug response
* checking Rd files ... OK
* checking Rd metadata ... OK
* checking Rd cross-references ... OK
* checking for missing documentation entries ... OK
* checking for code/documentation mismatches ... OK
* checking Rd \usage sections ... OK
* checking Rd contents ... OK
* checking for unstated dependencies in examples ... OK
* checking contents of 'data' directory ... OK
* checking data for non-ASCII characters ... OK
* checking LazyData ... OK
* checking data for ASCII and uncompressed saves ... OK
* checking files in 'vignettes' ... OK
* checking examples ... OK
* checking for unstated dependencies in 'tests' ... OK
* checking tests ...
  Running 'testthat.R'
 OK
* checking for unstated dependencies in vignettes ... OK
* checking package vignettes in 'inst/doc' ... OK
* checking running R code from vignettes ... SKIPPED
* checking re-building of vignette outputs ... SKIPPED
* checking PDF version of manual ... OK
* DONE

Status: 1 NOTE
See
  'D:/biocbuild/bbs-3.15-bioc/meat/pogos.Rcheck/00check.log'
for details.



Installation output

pogos.Rcheck/00install.out

##############################################################################
##############################################################################
###
### Running command:
###
###   D:\biocbuild\bbs-3.15-bioc\R\bin\R.exe CMD INSTALL pogos
###
##############################################################################
##############################################################################


* installing to library 'D:/biocbuild/bbs-3.15-bioc/R/library'
* installing *source* package 'pogos' ...
** using staged installation
** R
** data
*** moving datasets to lazyload DB
** inst
** byte-compile and prepare package for lazy loading
** help
*** installing help indices
  converting help for package 'pogos'
    finding HTML links ... done
    DRProfSet                               html  
    DRTraceSet                              html  
    basicDecoder                            html  
    compoundsByCell                         html  
    compounds_v1                            html  
    iriCCLE                                 html  
    rxdbQuery_v1                            html  
    sub-DRProfSet-character-ANY-method      html  
    topEndpoints_v1                         html  
    traces                                  html  
** building package indices
** installing vignettes
** testing if installed package can be loaded from temporary location
** testing if installed package can be loaded from final location
** testing if installed package keeps a record of temporary installation path
* DONE (pogos)
Making 'packages.html' ...Warning in packageDescription(i, lib.loc = lib, fields = "Title", encoding = "UTF-8") :
  DESCRIPTION file of package 'tradeSeq' is missing or broken
 done

Tests output

pogos.Rcheck/tests/testthat.Rout


R Under development (unstable) (2021-11-21 r81221) -- "Unsuffered Consequences"
Copyright (C) 2021 The R Foundation for Statistical Computing
Platform: x86_64-w64-mingw32/x64 (64-bit)

R is free software and comes with ABSOLUTELY NO WARRANTY.
You are welcome to redistribute it under certain conditions.
Type 'license()' or 'licence()' for distribution details.

R is a collaborative project with many contributors.
Type 'contributors()' for more information and
'citation()' on how to cite R or R packages in publications.

Type 'demo()' for some demos, 'help()' for on-line help, or
'help.start()' for an HTML browser interface to help.
Type 'q()' to quit R.

> library(testthat)
> library(pogos)
Loading required package: rjson
Loading required package: httr
> 
> test_check("pogos")
[ FAIL 0 | WARN 0 | SKIP 0 | PASS 5 ]
> 
> proc.time()
   user  system elapsed 
   6.23    0.48    7.18 

Example timings

pogos.Rcheck/pogos-Ex.timings

nameusersystemelapsed
DRProfSet000
DRTraceSet0.120.060.93
basicDecoder0.000.000.05
compoundsByCell000
compounds_v10.030.020.04
iriCCLE0.220.030.25
rxdbQuery_v10.000.000.07
topEndpoints_v1000
traces0.010.000.01