Index of /checkResults/devel/bioc-LATEST/pogos/raw-results
Name
Last modified
Size
Description
Parent Directory
-
info.dcf
24-May-2022 00:08
263
lconway/
24-May-2022 00:08
-
nebbiolo2/
24-May-2022 00:05
-
palomino4/
24-May-2022 00:06
-