Name | Last modified | Size | Description | |
---|---|---|---|---|
Parent Directory | - | |||
buildsrc-out.txt | 23-May-2024 00:36 | 765 | ||
buildsrc-summary.dcf | 23-May-2024 00:36 | 416 | ||
checksrc-out.txt | 23-May-2024 00:36 | 3.7K | ||
checksrc-summary.dcf | 23-May-2024 00:36 | 405 | ||
install-out.txt | 23-May-2024 00:36 | 2.6K | ||
install-summary.dcf | 23-May-2024 00:36 | 255 | ||