Name | Last modified | Size | Description | |
---|---|---|---|---|
Parent Directory | - | |||
buildbin-out.txt | 11-May-2024 00:38 | 5.7K | ||
buildbin-summary.dcf | 11-May-2024 00:38 | 518 | ||
buildsrc-out.txt | 11-May-2024 00:38 | 751 | ||
buildsrc-summary.dcf | 11-May-2024 00:38 | 420 | ||
checksrc-out.txt | 11-May-2024 00:38 | 4.4K | ||
checksrc-summary.dcf | 11-May-2024 00:38 | 441 | ||
install-out.txt | 11-May-2024 00:38 | 3.7K | ||
install-summary.dcf | 11-May-2024 00:38 | 265 | ||