Back to Multiple platform build/check report for BioC 3.15
ABCDEFGHIJKLMNO[P]QRSTUVWXYZ

This page was generated on 2022-01-25 11:07:58 -0500 (Tue, 25 Jan 2022).

HostnameOSArch (*)R versionInstalled pkgs
nebbiolo1Linux (Ubuntu 20.04.4 LTS)x86_64R Under development (unstable) (2022-01-05 r81451) -- "Unsuffered Consequences" 4164
riesling1Windows Server 2019 Standardx64R Under development (unstable) (2021-11-21 r81221) -- "Unsuffered Consequences" 4059
palomino3Windows Server 2022 Datacenterx64R Under development (unstable) (2021-12-21 r81400 ucrt) -- "Unsuffered Consequences" 4001
merida1macOS 10.14.6 Mojavex86_64R Under development (unstable) (2022-01-05 r81451) -- "Unsuffered Consequences" 4118
Click on any hostname to see more info about the system (e.g. compilers)      (*) as reported by 'uname -p', except on Windows and Mac OS X

BUILD BIN results for plgem on riesling1


To the developers/maintainers of the plgem package:
- Please allow up to 24 hours (and sometimes 48 hours) for your latest push to git@git.bioconductor.org:packages/plgem.git to
reflect on this report. See How and When does the builder pull? When will my changes propagate? here for more information.
- Make sure to use the following settings in order to reproduce any error or warning you see on this page.

raw results

Package 1422/2075HostnameOS / ArchINSTALLBUILDCHECKBUILD BIN
plgem 1.67.0  (landing page)
Norman Pavelka
Snapshot Date: 2022-01-24 13:55:18 -0500 (Mon, 24 Jan 2022)
git_url: https://git.bioconductor.org/packages/plgem
git_branch: master
git_last_commit: a076fb2
git_last_commit_date: 2021-10-26 11:47:50 -0500 (Tue, 26 Oct 2021)
nebbiolo1Linux (Ubuntu 20.04.4 LTS) / x86_64  OK    OK    OK  UNNEEDED, same version is already published
riesling1Windows Server 2019 Standard / x64  OK    OK    OK    OK  
palomino3Windows Server 2022 Datacenter / x64  OK    OK    OK    OK  NO, package depends on 'Biobase' which is not available
merida1macOS 10.14.6 Mojave / x86_64  OK    OK    OK    OK  UNNEEDED, same version is already published

Summary

Package: plgem
Version: 1.67.0
Command: rm -rf plgem.buildbin-libdir && mkdir plgem.buildbin-libdir && D:\biocbuild\bbs-3.15-bioc\R\bin\R.exe CMD INSTALL --build --library=plgem.buildbin-libdir plgem_1.67.0.tar.gz
StartedAt: 2022-01-24 21:09:14 -0500 (Mon, 24 Jan 2022)
EndedAt: 2022-01-24 21:10:09 -0500 (Mon, 24 Jan 2022)
EllapsedTime: 55.6 seconds
RetCode: 0
Status:   OK  
PackageFile: plgem_1.67.0.zip
PackageFileSize: 1.05 MiB

Command output

##############################################################################
##############################################################################
###
### Running command:
###
###   rm -rf plgem.buildbin-libdir && mkdir plgem.buildbin-libdir && D:\biocbuild\bbs-3.15-bioc\R\bin\R.exe CMD INSTALL --build --library=plgem.buildbin-libdir plgem_1.67.0.tar.gz
###
##############################################################################
##############################################################################


* installing *source* package 'plgem' ...
** using staged installation
** R
** data
** inst
** byte-compile and prepare package for lazy loading
** help
*** installing help indices
  converting help for package 'plgem'
    finding HTML links ... done
    LPSeset                                 html  
    plgem.deg                               html  
    plgem.fit                               html  
    plgem.obsStn                            html  
    plgem.pValue                            html  
    plgem.resampledStn                      html  
    plgem.write.summary                     html  
    run.plgem                               html  
    setGpar                                 html  
** building package indices
** installing vignettes
** testing if installed package can be loaded from temporary location
** testing if installed package can be loaded from final location
** testing if installed package keeps a record of temporary installation path
* MD5 sums
packaged installation of 'plgem' as plgem_1.67.0.zip
* DONE (plgem)