Index of /checkResults/devel/bioc-LATEST/pkgDepTools/raw-results/lconway

[ICO]NameLast modifiedSizeDescription

[DIR]Parent Directory  -  
[TXT]buildbin-out.txt02-Jul-2022 00:08 1.2K 
[   ]buildbin-summary.dcf02-Jul-2022 00:08 553  
[TXT]buildsrc-out.txt02-Jul-2022 00:08 832  
[   ]buildsrc-summary.dcf02-Jul-2022 00:08 441  
[TXT]checksrc-out.txt02-Jul-2022 00:08 4.5K 
[   ]checksrc-summary.dcf02-Jul-2022 00:08 459  
[TXT]install-out.txt02-Jul-2022 00:08 1.0K 
[   ]install-summary.dcf02-Jul-2022 00:08 277