Index of /checkResults/devel/bioc-LATEST/pkgDepTools/raw-results

[ICO]NameLast modifiedSizeDescription

[DIR]Parent Directory  -  
[DIR]nebbiolo2/18-May-2022 00:05 -  
[DIR]palomino4/18-May-2022 00:07 -  
[   ]info.dcf18-May-2022 00:08 299  
[DIR]lconway/18-May-2022 00:08 -