Name | Last modified | Size | Description | |
---|---|---|---|---|
Parent Directory | - | |||
buildbin-out.txt | 17-Jul-2024 00:40 | 1.1K | ||
buildbin-summary.dcf | 17-Jul-2024 00:40 | 532 | ||
buildsrc-out.txt | 17-Jul-2024 00:40 | 892 | ||
buildsrc-summary.dcf | 17-Jul-2024 00:40 | 466 | ||
checksrc-out.txt | 17-Jul-2024 00:40 | 3.5K | ||
checksrc-summary.dcf | 17-Jul-2024 00:40 | 467 | ||
install-out.txt | 17-Jul-2024 00:40 | 1.0K | ||
install-summary.dcf | 17-Jul-2024 00:40 | 278 | ||