Name | Last modified | Size | Description | |
---|---|---|---|---|
Parent Directory | - | |||
buildbin-out.txt | 28-Jul-2024 00:41 | 1.2K | ||
buildbin-summary.dcf | 28-Jul-2024 00:41 | 542 | ||
buildsrc-out.txt | 28-Jul-2024 00:41 | 864 | ||
buildsrc-summary.dcf | 28-Jul-2024 00:41 | 433 | ||
checksrc-out.txt | 28-Jul-2024 00:41 | 3.5K | ||
checksrc-summary.dcf | 28-Jul-2024 00:41 | 452 | ||
install-out.txt | 28-Jul-2024 00:41 | 1.0K | ||
install-summary.dcf | 28-Jul-2024 00:41 | 273 | ||