Index of /checkResults/devel/bioc-LATEST/phyloseq/raw-results/palomino4

[ICO]NameLast modifiedSizeDescription

[DIR]Parent Directory  -  
[TXT]buildbin-out.txt28-Sep-2023 00:38 1.1K 
[   ]buildbin-summary.dcf28-Sep-2023 00:38 521  
[TXT]buildsrc-out.txt28-Sep-2023 00:38 904  
[   ]buildsrc-summary.dcf28-Sep-2023 00:38 457  
[TXT]checksrc-out.txt28-Sep-2023 00:38 11K 
[   ]checksrc-summary.dcf28-Sep-2023 00:38 457  
[TXT]install-out.txt28-Sep-2023 00:38 1.0K 
[   ]install-summary.dcf28-Sep-2023 00:38 270