Index of /checkResults/devel/bioc-LATEST/phyloseq/raw-results/merida1

[ICO]NameLast modifiedSizeDescription

[DIR]Parent Directory  -  
[   ]install-summary.dcf05-Mar-2024 01:39 271  
[TXT]install-out.txt05-Mar-2024 01:39 1.0K 
[   ]checksrc-summary.dcf05-Mar-2024 01:39 454  
[TXT]checksrc-out.txt05-Mar-2024 01:39 12K 
[   ]buildsrc-summary.dcf05-Mar-2024 01:39 431  
[TXT]buildsrc-out.txt05-Mar-2024 01:39 883  
[   ]buildbin-summary.dcf05-Mar-2024 01:39 534  
[TXT]buildbin-out.txt05-Mar-2024 01:39 1.2K