Name | Last modified | Size | Description | |
---|---|---|---|---|
Parent Directory | - | |||
checksrc-out.txt | 12-Jun-2024 04:40 | 3.6K | ||
buildbin-out.txt | 12-Jun-2024 04:40 | 1.0K | ||
install-out.txt | 12-Jun-2024 04:40 | 956 | ||
buildsrc-out.txt | 12-Jun-2024 04:40 | 829 | ||
buildbin-summary.dcf | 12-Jun-2024 04:40 | 503 | ||
buildsrc-summary.dcf | 12-Jun-2024 04:40 | 444 | ||
checksrc-summary.dcf | 12-Jun-2024 04:40 | 439 | ||
install-summary.dcf | 12-Jun-2024 04:40 | 264 | ||