Index of /checkResults/devel/bioc-LATEST/phenopath/raw-results
Name
Last modified
Size
Description
Parent Directory
-
info.dcf
08-Feb-2023 01:07
277
merida1/
08-Feb-2023 01:07
-
nebbiolo1/
08-Feb-2023 01:05
-
palomino3/
08-Feb-2023 01:06
-