Back to Multiple platform build/check report for BioC 3.15
ABCDEFGHIJKLMNO[P]QRSTUVWXYZ

This page was generated on 2022-01-21 11:08:15 -0500 (Fri, 21 Jan 2022).

HostnameOSArch (*)R versionInstalled pkgs
nebbiolo1Linux (Ubuntu 20.04.4 LTS)x86_64R Under development (unstable) (2022-01-05 r81451) -- "Unsuffered Consequences" 4163
riesling1Windows Server 2019 Standardx64R Under development (unstable) (2021-11-21 r81221) -- "Unsuffered Consequences" 4058
palomino3Windows Server 2022 Datacenterx64R Under development (unstable) (2021-12-21 r81400 ucrt) -- "Unsuffered Consequences" 4000
merida1macOS 10.14.6 Mojavex86_64R Under development (unstable) (2022-01-05 r81451) -- "Unsuffered Consequences" 4117
Click on any hostname to see more info about the system (e.g. compilers)      (*) as reported by 'uname -p', except on Windows and Mac OS X

BUILD BIN results for phenoTest on riesling1


To the developers/maintainers of the phenoTest package:
- Please allow up to 24 hours (and sometimes 48 hours) for your latest push to git@git.bioconductor.org:packages/phenoTest.git to
reflect on this report. See How and When does the builder pull? When will my changes propagate? here for more information.
- Make sure to use the following settings in order to reproduce any error or warning you see on this page.

raw results

Package 1403/2075HostnameOS / ArchINSTALLBUILDCHECKBUILD BIN
phenoTest 1.43.0  (landing page)
Evarist Planet
Snapshot Date: 2022-01-20 13:55:17 -0500 (Thu, 20 Jan 2022)
git_url: https://git.bioconductor.org/packages/phenoTest
git_branch: master
git_last_commit: 14b12b9
git_last_commit_date: 2021-10-26 11:57:57 -0500 (Tue, 26 Oct 2021)
nebbiolo1Linux (Ubuntu 20.04.4 LTS) / x86_64  OK    OK    WARNINGS  UNNEEDED, same version is already published
riesling1Windows Server 2019 Standard / x64  OK    OK    WARNINGS    OK  
palomino3Windows Server 2022 Datacenter / x64  OK    OK    WARNINGS    OK  NO, package depends on 'Biobase' which is not available
merida1macOS 10.14.6 Mojave / x86_64  OK    OK    WARNINGS    OK  UNNEEDED, same version is already published

Summary

Package: phenoTest
Version: 1.43.0
Command: rm -rf phenoTest.buildbin-libdir && mkdir phenoTest.buildbin-libdir && D:\biocbuild\bbs-3.15-bioc\R\bin\R.exe CMD INSTALL --build --library=phenoTest.buildbin-libdir phenoTest_1.43.0.tar.gz
StartedAt: 2022-01-20 21:10:19 -0500 (Thu, 20 Jan 2022)
EndedAt: 2022-01-20 21:11:22 -0500 (Thu, 20 Jan 2022)
EllapsedTime: 63.2 seconds
RetCode: 0
Status:   OK  
PackageFile: phenoTest_1.43.0.zip
PackageFileSize: 1.891 MiB

Command output

##############################################################################
##############################################################################
###
### Running command:
###
###   rm -rf phenoTest.buildbin-libdir && mkdir phenoTest.buildbin-libdir && D:\biocbuild\bbs-3.15-bioc\R\bin\R.exe CMD INSTALL --build --library=phenoTest.buildbin-libdir phenoTest_1.43.0.tar.gz
###
##############################################################################
##############################################################################


* installing *source* package 'phenoTest' ...
** using staged installation
** R
** data
** inst
** byte-compile and prepare package for lazy loading
** help
*** installing help indices
  converting help for package 'phenoTest'
    finding HTML links ... done
    ClusterPhenoTest                        html  
    ExpressionPhenoTest                     html  
    barplotSignatures-methods               html  
    barplotSignifSignatures-methods         html  
    epheno-class                            html  
    finding level-2 HTML links ... done

    epheno                                  html  
    epheno2html                             html  
    ephenoGetters                           html  
    eset                                    html  
    eset.genelevel                          html  
    eset2genelevel                          html  
    export2CSV-methods                      html  
    export2CSV                              html  
    findCopyNumber                          html  
    genesInArea                             html  
    getEsPositions                          html  
    getGseaSignatures                       html  
    getVars2test-methods                    html  
    getVars2test                            html  
    gsea                                    html  
    gsea.subset                             html  
    gsea2html                               html  
    gseaData-class                          html  
    gseaSignatures-class                    html  
    gseaSignatures-methods                  html  
    gseaSignatures                          html  
    gseaSignaturesSign-class                html  
    gseaSignaturesVar-class                 html  
    gseaSignificance                        html  
    gseaSignificanceSign-class              html  
    gseaSignificanceVar-class               html  
    heatmapPhenoTest-methods                html  
    heatmapPhenoTest                        html  
    pAdjust-methods                         html  
    pAdjust                                 html  
    pca                                     html  
    phenoTest-package                       html  
    plot.gsea                               html  
    plot.gseaSignatures                     html  
    plots4epheno                            html  
    show-methods                            html  
    smoothCoxph                             html  
    summary.gsea                            html  
    summary.gseaSignificance                html  
    write.html                              html  
** building package indices
** installing vignettes
** testing if installed package can be loaded from temporary location
** testing if installed package can be loaded from final location
** testing if installed package keeps a record of temporary installation path
* MD5 sums
packaged installation of 'phenoTest' as phenoTest_1.43.0.zip
* DONE (phenoTest)