Name | Last modified | Size | Description | |
---|---|---|---|---|
Parent Directory | - | |||
install-out.txt | 21-Jun-2024 01:14 | 951 | ||
install-summary.dcf | 21-Jun-2024 01:14 | 253 | ||
buildsrc-out.txt | 21-Jun-2024 01:14 | 1.2K | ||
buildsrc-summary.dcf | 21-Jun-2024 01:14 | 415 | ||
checksrc-out.txt | 21-Jun-2024 01:14 | 3.5K | ||
checksrc-summary.dcf | 21-Jun-2024 01:14 | 402 | ||