Index of /checkResults/devel/bioc-LATEST/peakPantheR/raw-results/merida1
Name
Last modified
Size
Description
Parent Directory
-
buildsrc-out.txt
02-May-2024 00:40
2.0K
buildsrc-summary.dcf
02-May-2024 00:40
351
install-out.txt
02-May-2024 00:40
1.0K
install-summary.dcf
02-May-2024 00:40
277