Back to Multiple platform build/check report for BioC 3.15
ABCDEFGHIJKLMNO[P]QRSTUVWXYZ

This page was generated on 2022-01-17 11:08:00 -0500 (Mon, 17 Jan 2022).

HostnameOSArch (*)R versionInstalled pkgs
nebbiolo1Linux (Ubuntu 20.04.4 LTS)x86_64R Under development (unstable) (2022-01-05 r81451) -- "Unsuffered Consequences" 4161
riesling1Windows Server 2019 Standardx64R Under development (unstable) (2021-11-21 r81221) -- "Unsuffered Consequences" 4056
palomino3Windows Server 2022 Datacenterx64R Under development (unstable) (2021-12-21 r81400 ucrt) -- "Unsuffered Consequences" 3998
merida1macOS 10.14.6 Mojavex86_64R Under development (unstable) (2022-01-05 r81451) -- "Unsuffered Consequences" 4115
Click on any hostname to see more info about the system (e.g. compilers)      (*) as reported by 'uname -p', except on Windows and Mac OS X

BUILD BIN results for pcaExplorer on riesling1


To the developers/maintainers of the pcaExplorer package:
- Please allow up to 24 hours (and sometimes 48 hours) for your latest push to git@git.bioconductor.org:packages/pcaExplorer.git to
reflect on this report. See How and When does the builder pull? When will my changes propagate? here for more information.
- Make sure to use the following settings in order to reproduce any error or warning you see on this page.

raw results

Package 1378/2074HostnameOS / ArchINSTALLBUILDCHECKBUILD BIN
pcaExplorer 2.21.0  (landing page)
Federico Marini
Snapshot Date: 2022-01-16 13:55:18 -0500 (Sun, 16 Jan 2022)
git_url: https://git.bioconductor.org/packages/pcaExplorer
git_branch: master
git_last_commit: a5af062
git_last_commit_date: 2021-10-26 12:27:09 -0500 (Tue, 26 Oct 2021)
nebbiolo1Linux (Ubuntu 20.04.4 LTS) / x86_64  OK    OK    OK  UNNEEDED, same version is already published
riesling1Windows Server 2019 Standard / x64  OK    OK    OK    OK  
palomino3Windows Server 2022 Datacenter / x64  OK    OK    OK    OK  NO, package depends on 'DESeq2' which is not available
merida1macOS 10.14.6 Mojave / x86_64  OK    OK    OK    OK  UNNEEDED, same version is already published

Summary

Package: pcaExplorer
Version: 2.21.0
Command: rm -rf pcaExplorer.buildbin-libdir && mkdir pcaExplorer.buildbin-libdir && D:\biocbuild\bbs-3.15-bioc\R\bin\R.exe CMD INSTALL --build --library=pcaExplorer.buildbin-libdir pcaExplorer_2.21.0.tar.gz
StartedAt: 2022-01-16 21:15:14 -0500 (Sun, 16 Jan 2022)
EndedAt: 2022-01-16 21:16:19 -0500 (Sun, 16 Jan 2022)
EllapsedTime: 65.1 seconds
RetCode: 0
Status:   OK  
PackageFile: pcaExplorer_2.21.0.zip
PackageFileSize: 12.28 MiB

Command output

##############################################################################
##############################################################################
###
### Running command:
###
###   rm -rf pcaExplorer.buildbin-libdir && mkdir pcaExplorer.buildbin-libdir && D:\biocbuild\bbs-3.15-bioc\R\bin\R.exe CMD INSTALL --build --library=pcaExplorer.buildbin-libdir pcaExplorer_2.21.0.tar.gz
###
##############################################################################
##############################################################################


* installing *source* package 'pcaExplorer' ...
** using staged installation
** R
** inst
** byte-compile and prepare package for lazy loading
** help
*** installing help indices
  converting help for package 'pcaExplorer'
    finding HTML links ... done
    correlatePCs                            html  
    distro_expr                             html  
    finding level-2 HTML links ... done

    geneprofiler                            html  
    genespca                                html  
    get_annotation                          html  
    get_annotation_orgdb                    html  
    hi_loadings                             html  
    limmaquickpca2go                        html  
    makeExampleDESeqDataSet_multifac        html  
    pair_corr                               html  
    pca2go                                  html  
    pcaExplorer-pkg                         html  
    pcaExplorer                             html  
    pcaplot                                 html  
    pcaplot3d                               html  
    pcascree                                html  
    plotPCcorrs                             html  
    topGOtable                              html  
** building package indices
** installing vignettes
** testing if installed package can be loaded from temporary location
** testing if installed package can be loaded from final location
** testing if installed package keeps a record of temporary installation path
* MD5 sums
packaged installation of 'pcaExplorer' as pcaExplorer_2.21.0.zip
* DONE (pcaExplorer)